BEGIN:VCALENDAR
VERSION:2.0
PRODID:-//Wisconsin Civic Learning Coalition - ECPv6.15.13.1//NONSGML v1.0//EN
CALSCALE:GREGORIAN
METHOD:PUBLISH
X-WR-CALNAME:Wisconsin Civic Learning Coalition
X-ORIGINAL-URL:https://civicswi.org
X-WR-CALDESC:Events for Wisconsin Civic Learning Coalition
REFRESH-INTERVAL;VALUE=DURATION:PT1H
X-Robots-Tag:noindex
X-PUBLISHED-TTL:PT1H
BEGIN:VTIMEZONE
TZID:America/Chicago
BEGIN:DAYLIGHT
TZOFFSETFROM:-0600
TZOFFSETTO:-0500
TZNAME:CDT
DTSTART:20240310T080000
END:DAYLIGHT
BEGIN:STANDARD
TZOFFSETFROM:-0500
TZOFFSETTO:-0600
TZNAME:CST
DTSTART:20241103T070000
END:STANDARD
BEGIN:DAYLIGHT
TZOFFSETFROM:-0600
TZOFFSETTO:-0500
TZNAME:CDT
DTSTART:20250309T080000
END:DAYLIGHT
BEGIN:STANDARD
TZOFFSETFROM:-0500
TZOFFSETTO:-0600
TZNAME:CST
DTSTART:20251102T070000
END:STANDARD
BEGIN:DAYLIGHT
TZOFFSETFROM:-0600
TZOFFSETTO:-0500
TZNAME:CDT
DTSTART:20260308T080000
END:DAYLIGHT
BEGIN:STANDARD
TZOFFSETFROM:-0500
TZOFFSETTO:-0600
TZNAME:CST
DTSTART:20261101T070000
END:STANDARD
END:VTIMEZONE
BEGIN:VEVENT
DTSTART;TZID=America/Chicago:20250310T153000
DTEND;TZID=America/Chicago:20250310T163000
DTSTAMP:20260420T033317
CREATED:20250304T221213Z
LAST-MODIFIED:20250304T221235Z
UID:2076-1741620600-1741624200@civicswi.org
SUMMARY:Civic Learning Week in Wisconsin: learn and share with the story of Roberto Hernández
DESCRIPTION:Civic Learning Week (March 10-14\, 2025) is almost here! PBS Wisconsin Education has tons of great resources to enhance civic learning in classrooms and libraries\, and we’re inviting feedback from educators on one of them in a special Civic Learning Week opportunity. \nWe’re currently looking for Wisconsin educators who work with grades 3-8 and want to explore and share their thoughts on the Wisconsin Biographies story of Roberto Hernández\, a civically-engaged activist who fought for better educational opportunities for Latinos in Milwaukee during the 1960s and 70s. You’ll review the resources and (optionally) share them with learners the first week of March. Then\, during Civic Learning Week\, you’ll connect with our team for a 20-minute “tea time” session to share your feedback and make our media better. Learn more and find the link to sign up in the flyer.
URL:https://civicswi.org/event/civic-learning-week-in-wisconsin-learn-and-share-with-the-story-of-roberto-hernandez/
LOCATION:Virtual
ATTACH;FMTTYPE=image/png:https://civicswi.org/wp-content/uploads/2024/02/PBS-Wisconsin.png
ORGANIZER;CN="PBS Wisconsin Education":MAILTO:education@pbswisconsin.org
END:VEVENT
BEGIN:VEVENT
DTSTART;TZID=America/Chicago:20250308T100000
DTEND;TZID=America/Chicago:20250308T140000
DTSTAMP:20260420T033317
CREATED:20250219T190906Z
LAST-MODIFIED:20250227T175436Z
UID:798-1741428000-1741442400@civicswi.org
SUMMARY:Girl Scout Day at the Capital
DESCRIPTION:This annual event provides Girl Scouts the unique opportunity to engage with local legislators\, learn about the civic process\, and become empowered to take an active role in their communities.  Contact Logan Hennessy if you’d like to volunteer to support this fantastic civic engagement event. <HennessyL@gsbadgerland.org>
URL:https://civicswi.org/event/girl-scout-day-at-the-capital/
LOCATION:Wisconsin Capitol\, 2 E Main St\, Madison\, Wisconsin\, 53706\, United States
ATTACH;FMTTYPE=image/png:https://civicswi.org/wp-content/uploads/2025/02/girl-scout-day-at-the-capital.png
END:VEVENT
BEGIN:VEVENT
DTSTART;VALUE=DATE:20250307
DTEND;VALUE=DATE:20250308
DTSTAMP:20260420T033317
CREATED:20250227T225634Z
LAST-MODIFIED:20250227T225634Z
UID:2036-1741305600-1741391999@civicswi.org
SUMMARY:Jack Miller Center 2025 American Civic Tradition Fellowship Application Deadline
DESCRIPTION:The American Civic Tradition Fellowship is the Founding Civics Initiative’s signature program\, attracting top middle and high school social studies educators from around the country. \nThe fellowship consists of a weeklong in-person institute in the summer and monthly virtual meetings during the following academic year. In addition to in-depth discussions of primary texts\, teachers will develop lesson plans and curricular materials for the classroom. \nScholar sessions will be led by Robert Burton (Utah Valley University)\, Lynn Uzzell (Bethel University)\, Zachary German (Arizona State University)\, Michael Promisel (Catholic University of America)\, and Alberto Coll (DePaul University College of Law). \nExpenses related to attending the institute are paid for by the Jack Miller Center\, and fellows will receive a $1\,000 stipend for completion of the yearlong fellowship. \nApplications are due on Friday\, March 7\, 2025 and can be found here: https://docs.google.com/forms/d/e/1FAIpQLSdlqOL6dKjEFM1ZFCF87fTjUl2XdiGVBbY16yoy-ncj9BWclA/viewform
URL:https://civicswi.org/event/jack-miller-center-2025-american-civic-tradition-fellowship-application-deadline/
LOCATION:Virtual
ATTACH;FMTTYPE=image/png:https://civicswi.org/wp-content/uploads/2025/02/FCI-Green.png
END:VEVENT
BEGIN:VEVENT
DTSTART;TZID=America/Chicago:20250305T180000
DTEND;TZID=America/Chicago:20250305T190000
DTSTAMP:20260420T033317
CREATED:20250227T165843Z
LAST-MODIFIED:20250227T165929Z
UID:816-1741197600-1741201200@civicswi.org
SUMMARY:Introduction to Civic Online Reasoning: Teach Students to Sort Fact from Fiction Online
DESCRIPTION:The Digital Inquiry Group’s Civic Online Reasoning curriculum\, based on research with professional fact checkers and tested in classrooms across the country\, teaches students to effectively evaluate online content. During this interactive webinar\, participants will consider the research behind the curriculum\, review free curricular materials\, and discuss how these resources can be integrated into their own classrooms.
URL:https://civicswi.org/event/introduction-to-civic-online-reasoning-teach-students-to-sort-fact-from-fiction-online/
LOCATION:Virtual
ATTACH;FMTTYPE=image/jpeg:https://civicswi.org/wp-content/uploads/2025/02/classrooms.jpg
END:VEVENT
BEGIN:VEVENT
DTSTART;TZID=America/Chicago:20250219T190000
DTEND;TZID=America/Chicago:20250219T200000
DTSTAMP:20260420T033317
CREATED:20250219T182946Z
LAST-MODIFIED:20250219T183322Z
UID:789-1739991600-1739995200@civicswi.org
SUMMARY:Street Law Resources for Civics and Legal Education
DESCRIPTION:Use the link below to sign up for a Zoom meeting hosted by WCSS and the Wisconsin Civics Fellows\, with Street Law.
URL:https://civicswi.org/event/street-law-resources-for-civics-and-legal-education/
ATTACH;FMTTYPE=image/png:https://civicswi.org/wp-content/uploads/2023/12/343933547_610966207737950_6431823301844829624_n-Sarah-Kopplin-1024x1024-1.png
END:VEVENT
END:VCALENDAR